BEGIN:VCALENDAR
VERSION:2.0
PRODID:-//T|Q|D - ECPv6.15.20//NONSGML v1.0//EN
CALSCALE:GREGORIAN
METHOD:PUBLISH
X-WR-CALNAME:T|Q|D
X-ORIGINAL-URL:https://tequierodemasiado.es
X-WR-CALDESC:Eventos para T|Q|D
REFRESH-INTERVAL;VALUE=DURATION:PT1H
X-Robots-Tag:noindex
X-PUBLISHED-TTL:PT1H
BEGIN:VTIMEZONE
TZID:UTC
BEGIN:STANDARD
TZOFFSETFROM:+0000
TZOFFSETTO:+0000
TZNAME:UTC
DTSTART:20230101T000000
END:STANDARD
END:VTIMEZONE
BEGIN:VEVENT
DTSTART;TZID=UTC:20241224T080000
DTEND;TZID=UTC:20250107T170000
DTSTAMP:20260420T034028
CREATED:20241202T185824Z
LAST-MODIFIED:20241202T185824Z
UID:2578-1735027200-1736269200@tequierodemasiado.es
SUMMARY:VULETA A CASA POR NAVIDAD!!
DESCRIPTION:Que más se puede decir… \nBueno sí\, que te amo\, con locura
URL:https://tequierodemasiado.es/event/vuleta-a-casa-por-navidad/
END:VEVENT
END:VCALENDAR