BEGIN:VCALENDAR
VERSION:2.0
PRODID:-//T|Q|D - ECPv6.15.20//NONSGML v1.0//EN
CALSCALE:GREGORIAN
METHOD:PUBLISH
X-WR-CALNAME:T|Q|D
X-ORIGINAL-URL:https://tequierodemasiado.es
X-WR-CALDESC:Eventos para T|Q|D
REFRESH-INTERVAL;VALUE=DURATION:PT1H
X-Robots-Tag:noindex
X-PUBLISHED-TTL:PT1H
BEGIN:VTIMEZONE
TZID:UTC
BEGIN:STANDARD
TZOFFSETFROM:+0000
TZOFFSETTO:+0000
TZNAME:UTC
DTSTART:20240101T000000
END:STANDARD
END:VTIMEZONE
BEGIN:VEVENT
DTSTART;TZID=UTC:20250222T090000
DTEND;TZID=UTC:20250301T210000
DTSTAMP:20260420T034615
CREATED:20250211T153638Z
LAST-MODIFIED:20250211T153736Z
UID:2655-1740214800-1740862800@tequierodemasiado.es
SUMMARY:CRACOVIA 2.0
DESCRIPTION:-421Days\n				-17Hours\n				-51Minutes\n				-15Seconds\n			\n  \n  \nQue decir que esta vez te quedas aquí 1 semana!! Que ganas
URL:https://tequierodemasiado.es/event/cracovia-2-0/
END:VEVENT
BEGIN:VEVENT
DTSTART;TZID=UTC:20250225T080000
DTEND;TZID=UTC:20250226T180000
DTSTAMP:20260420T034615
CREATED:20250211T154026Z
LAST-MODIFIED:20250211T154152Z
UID:2658-1740470400-1740592800@tequierodemasiado.es
SUMMARY:PARIS
DESCRIPTION:Creo que de los mejores viajes que vamos a hacer\, y más locos jajajajaja. 🙂 \n  \n25/02/2025 \n  \nPróximamente iré actualizando su entrada propia. \nPor ahora solo tendrá un countdown\, el cual al estar e en su entrada pertinente\, aquí no hace falta\, \nTambién estará el mapa y puede que más cosas\, no lo sé todavía \n  \n  \nCuando termine el viaje subiré las fotos y ya veré que más \n 
URL:https://tequierodemasiado.es/event/paris/
LOCATION:PARIS\, Paris\, France
END:VEVENT
BEGIN:VEVENT
DTSTART;TZID=UTC:20250425T000000
DTEND;TZID=UTC:20250425T235959
DTSTAMP:20260420T034615
CREATED:20250316T211717Z
LAST-MODIFIED:20250316T211717Z
UID:2896-1745539200-1745625599@tequierodemasiado.es
SUMMARY:CUMPLEAÑOS!!!
DESCRIPTION:24 AÑOSSSSSS
URL:https://tequierodemasiado.es/event/cumpleanos/
END:VEVENT
END:VCALENDAR