BEGIN:VCALENDAR
VERSION:2.0
PRODID:-//T|Q|D - ECPv6.15.20//NONSGML v1.0//EN
CALSCALE:GREGORIAN
METHOD:PUBLISH
X-ORIGINAL-URL:https://tequierodemasiado.es
X-WR-CALDESC:Eventos para T|Q|D
REFRESH-INTERVAL;VALUE=DURATION:PT1H
X-Robots-Tag:noindex
X-PUBLISHED-TTL:PT1H
BEGIN:VTIMEZONE
TZID:UTC
BEGIN:STANDARD
TZOFFSETFROM:+0000
TZOFFSETTO:+0000
TZNAME:UTC
DTSTART:20230101T000000
END:STANDARD
END:VTIMEZONE
BEGIN:VEVENT
DTSTART;TZID=UTC:20240420T000000
DTEND;TZID=UTC:20240421T235959
DTSTAMP:20260422T165732
CREATED:20240411T114417Z
LAST-MODIFIED:20240411T114417Z
UID:2465-1713571200-1713743999@tequierodemasiado.es
SUMMARY:BODA SERGIO Y GLORIA
DESCRIPTION:Ya está aquí la boda!!!
URL:https://tequierodemasiado.es/event/boda-sergio-y-gloria/
LOCATION:Palacio de Silvela\, : C. de Palacio Silvela\, 1\, 28300 Aranjuez\, Madrid\, Aranjuez\, madrid\, 28300\, España
END:VEVENT
END:VCALENDAR